BEGIN:VCALENDAR
VERSION:2.0
PRODID:-//Mag. Barbara Huber - ECPv6.15.20//NONSGML v1.0//EN
CALSCALE:GREGORIAN
METHOD:PUBLISH
X-WR-CALNAME:Mag. Barbara Huber
X-ORIGINAL-URL:https://barbara-huber.at
X-WR-CALDESC:Veranstaltungen für Mag. Barbara Huber
REFRESH-INTERVAL;VALUE=DURATION:PT1H
X-Robots-Tag:noindex
X-PUBLISHED-TTL:PT1H
BEGIN:VTIMEZONE
TZID:Europe/Helsinki
BEGIN:DAYLIGHT
TZOFFSETFROM:+0200
TZOFFSETTO:+0300
TZNAME:EEST
DTSTART:20180325T010000
END:DAYLIGHT
BEGIN:STANDARD
TZOFFSETFROM:+0300
TZOFFSETTO:+0200
TZNAME:EET
DTSTART:20181028T010000
END:STANDARD
BEGIN:DAYLIGHT
TZOFFSETFROM:+0200
TZOFFSETTO:+0300
TZNAME:EEST
DTSTART:20190331T010000
END:DAYLIGHT
BEGIN:STANDARD
TZOFFSETFROM:+0300
TZOFFSETTO:+0200
TZNAME:EET
DTSTART:20191027T010000
END:STANDARD
BEGIN:DAYLIGHT
TZOFFSETFROM:+0200
TZOFFSETTO:+0300
TZNAME:EEST
DTSTART:20200329T010000
END:DAYLIGHT
BEGIN:STANDARD
TZOFFSETFROM:+0300
TZOFFSETTO:+0200
TZNAME:EET
DTSTART:20201025T010000
END:STANDARD
END:VTIMEZONE
BEGIN:VEVENT
DTSTART;TZID=Europe/Helsinki:20190323T163000
DTEND;TZID=Europe/Helsinki:20190323T173000
DTSTAMP:20260424T184910
CREATED:20190225T084908Z
LAST-MODIFIED:20190225T085022Z
UID:2213-1553358600-1553362200@barbara-huber.at
SUMMARY:meet & greet im Fotopark
DESCRIPTION:Ein neues Messeformat für alle Fotografie-interessierten. Komm in den Foto Park! Anfassen\, probieren\, mitmachen und testen! 22. – 23.3.2019 VAZ St. Pölten \nVerschiedene Kamera und Objektivhersteller sind vor Ort. Du kannst aber ebenso auch Zubehör testen\, an Shootings teilnehmen oder Dich in der Meet & Greet Lounge unterhalten. Im Foto Park präsentieren sich auch einige Fotografinnen und Fotografen mit ihren Werken im Rahmen einer Sonderausstellung. \nMich findet ihr im Meet & Greet Bereich: \nMag\, Barbara Huber\, Unternehmensberaterin für Kreative und Buchautorin von „Urheberrecht für Fotografen“ lädt ein zum meet & greet. Diskutieren Sie mit ihr über die Herausforderungen des Fotografen-Unternehmer/innenlebens und die Tücken des Urheberrechts. \nFreitag: 15:30-16:30 \nSamstag: 16:30-17:30
URL:https://barbara-huber.at/termine/meet-greet-im-fotopark-2/
LOCATION:VAZ St. Pölten\, Kelsengasse 9\, St. Pölten\, 3100\, Österreich
CATEGORIES:Diskussion
END:VEVENT
END:VCALENDAR