BEGIN:VCALENDAR
VERSION:2.0
PRODID:-//Mag. Barbara Huber - ECPv6.15.20//NONSGML v1.0//EN
CALSCALE:GREGORIAN
METHOD:PUBLISH
X-WR-CALNAME:Mag. Barbara Huber
X-ORIGINAL-URL:https://barbara-huber.at
X-WR-CALDESC:Veranstaltungen für Mag. Barbara Huber
REFRESH-INTERVAL;VALUE=DURATION:PT1H
X-Robots-Tag:noindex
X-PUBLISHED-TTL:PT1H
BEGIN:VTIMEZONE
TZID:UTC
BEGIN:STANDARD
TZOFFSETFROM:+0000
TZOFFSETTO:+0000
TZNAME:UTC
DTSTART:20160101T000000
END:STANDARD
END:VTIMEZONE
BEGIN:VEVENT
DTSTART;VALUE=DATE:20171003
DTEND;VALUE=DATE:20171005
DTSTAMP:20260424T184404
CREATED:20170218T155446Z
LAST-MODIFIED:20170716T121748Z
UID:1305-1507010400-1507096799@barbara-huber.at
SUMMARY:Jungunternehmertag 2017 Wien
DESCRIPTION:Vortrag zum Thema „Buchhaltung und Kostenrechnung – first steps“ \nMöchtest Du wissen\, ob Dein Unternehmen steuerliche Gewinne erzielt und nicht nur prüfen\, ob genug Geld am Bankkonto liegt? Willst Du die Preise Deiner Stundensätze und Produkte richtig kalkulieren und nicht nur grob schätzen? Dann bist Du bei diesem Basisvortrag richtig! \nIch erkläre Dir auf einfache und anschauliche Weise\, welche gesetzlichen Vorschriften zum Thema Einnahmen-Ausgaben-Rechnung bestehen und wie Du diese Gewinnermittlungsart selbst durchführen kannst. Darüber hinaus widme ich mich der Frage der Preiskalkulation und demonstriere anhand von Beispielen\, wie Ihr Eure Verkaufspreise richtig kalkuliert. \nMove to success – mit Hilfe von Buchhaltung & Kostenrechnung!
URL:https://barbara-huber.at/termine/jungunternehmertag-2017-wien/
LOCATION:Messe Wien Congress Center\, Messeplatz 1\, Wien\, 1020\, Österreich
CATEGORIES:Vortrag
END:VEVENT
END:VCALENDAR