BEGIN:VCALENDAR
VERSION:2.0
PRODID:-//Mag. Barbara Huber - ECPv6.15.20//NONSGML v1.0//EN
CALSCALE:GREGORIAN
METHOD:PUBLISH
X-WR-CALNAME:Mag. Barbara Huber
X-ORIGINAL-URL:https://barbara-huber.at
X-WR-CALDESC:Veranstaltungen für Mag. Barbara Huber
REFRESH-INTERVAL;VALUE=DURATION:PT1H
X-Robots-Tag:noindex
X-PUBLISHED-TTL:PT1H
BEGIN:VTIMEZONE
TZID:UTC
BEGIN:STANDARD
TZOFFSETFROM:+0000
TZOFFSETTO:+0000
TZNAME:UTC
DTSTART:20160101T000000
END:STANDARD
END:VTIMEZONE
BEGIN:VEVENT
DTSTART;TZID=UTC:20170311T090000
DTEND;TZID=UTC:20170311T170000
DTSTAMP:20260424T231810
CREATED:20161028T064928Z
LAST-MODIFIED:20161028T064928Z
UID:1133-1489222800-1489251600@barbara-huber.at
SUMMARY:Gastvortrag Gründung
DESCRIPTION:Gastvortrag im Rahmen der Ausbildung zum diplomierten Kulturmanager zum Thema Gründung im Kulturbereich
URL:https://barbara-huber.at/termine/gastvortrag-gruendung-2/
LOCATION:Wifi Wien\, Währinger Gürtel 97\, Wien\, Wien\, 1180\, Österreich
CATEGORIES:Seminar
END:VEVENT
END:VCALENDAR