BEGIN:VCALENDAR
VERSION:2.0
PRODID:-//Mag. Barbara Huber - ECPv6.15.20//NONSGML v1.0//EN
CALSCALE:GREGORIAN
METHOD:PUBLISH
X-WR-CALNAME:Mag. Barbara Huber
X-ORIGINAL-URL:https://barbara-huber.at
X-WR-CALDESC:Veranstaltungen für Mag. Barbara Huber
REFRESH-INTERVAL;VALUE=DURATION:PT1H
X-Robots-Tag:noindex
X-PUBLISHED-TTL:PT1H
BEGIN:VTIMEZONE
TZID:Europe/Helsinki
BEGIN:DAYLIGHT
TZOFFSETFROM:+0200
TZOFFSETTO:+0300
TZNAME:EEST
DTSTART:20180325T010000
END:DAYLIGHT
BEGIN:STANDARD
TZOFFSETFROM:+0300
TZOFFSETTO:+0200
TZNAME:EET
DTSTART:20181028T010000
END:STANDARD
BEGIN:DAYLIGHT
TZOFFSETFROM:+0200
TZOFFSETTO:+0300
TZNAME:EEST
DTSTART:20190331T010000
END:DAYLIGHT
BEGIN:STANDARD
TZOFFSETFROM:+0300
TZOFFSETTO:+0200
TZNAME:EET
DTSTART:20191027T010000
END:STANDARD
BEGIN:DAYLIGHT
TZOFFSETFROM:+0200
TZOFFSETTO:+0300
TZNAME:EEST
DTSTART:20200329T010000
END:DAYLIGHT
BEGIN:STANDARD
TZOFFSETFROM:+0300
TZOFFSETTO:+0200
TZNAME:EET
DTSTART:20201025T010000
END:STANDARD
END:VTIMEZONE
BEGIN:VEVENT
DTSTART;TZID=Europe/Helsinki:20190927T140000
DTEND;TZID=Europe/Helsinki:20190927T190000
DTSTAMP:20260424T175922
CREATED:20190810T103134Z
LAST-MODIFIED:20190810T103456Z
UID:2379-1569592800-1569610800@barbara-huber.at
SUMMARY:Erste Schritte in die Freiberuflichkeit (Diätolog/innen)
DESCRIPTION:Zielgruppe\nDas Seminar richtet sich an DiaetologInnen\, die nun mit der Ausbildung fertig geworden sind. Es richtet sich aber auch an erfahrene KollegInnen die einen Neustart wagen\, sich ein zweites Standbein aufbauen möchten sowie für Wiedereinsteiger in die Berufswelt. \nDetailbeschreibung\n\n\nDas Seminar soll Sicherheit für den Beginn in die Selbstständigkeit als Diätologin/Diätologen geben. Durch Praxisbeispiele bekommt man ein Bild darüber welche verschiedenen Herausforderungen und Aufgaben einem dabei begegnen. Auch die der Datenschutzverordnung entsprechende Umsetzung und Handhabe von Patienteninformationen und Daten wird vermittelt. \n  \n\n\nInhalte\n\nDie ersten Fragen für die Freiberuflichkeit / Praxistipps; Finanzielle und rechtliche Aspekte der Selbstständigkeit; Datenschutzverordnung \n\nVortragende\nMag. Barbara Huber; Mag. Caroline Sonnenberg\, BSc; Jennifer Kellner\, BSc; RA Mag. Dr. Christian Gepart
URL:https://barbara-huber.at/termine/erste-schritte-in-die-freiberuflichkeit-diaetolog-innen/
LOCATION:Physio Austria\, Lange Gasse 30/1\, Wien\, 1080\, Österreich
END:VEVENT
END:VCALENDAR