BEGIN:VCALENDAR
VERSION:2.0
PRODID:-//Mag. Barbara Huber - ECPv6.15.20//NONSGML v1.0//EN
CALSCALE:GREGORIAN
METHOD:PUBLISH
X-WR-CALNAME:Mag. Barbara Huber
X-ORIGINAL-URL:https://barbara-huber.at
X-WR-CALDESC:Veranstaltungen für Mag. Barbara Huber
REFRESH-INTERVAL;VALUE=DURATION:PT1H
X-Robots-Tag:noindex
X-PUBLISHED-TTL:PT1H
BEGIN:VTIMEZONE
TZID:UTC
BEGIN:STANDARD
TZOFFSETFROM:+0000
TZOFFSETTO:+0000
TZNAME:UTC
DTSTART:20160101T000000
END:STANDARD
END:VTIMEZONE
BEGIN:VEVENT
DTSTART;TZID=UTC:20171017T090000
DTEND;TZID=UTC:20171017T160000
DTSTAMP:20260424T153547
CREATED:20170520T094036Z
LAST-MODIFIED:20170520T094313Z
UID:1424-1508230800-1508256000@barbara-huber.at
SUMMARY:„Dream-Team“ FotografIn und Verlag
DESCRIPTION:Wie sich FotografInnen als ideale Verlags-Partner positionieren können.\nVerstehen Sie die unterschiedlichen Bedürfnisse und lernen Sie die Eckpfeiler erfolgreicher Zusammenarbeit kennen. \nFür die Projekte im Verlag sind die Dienstleistungen eines Fotografen/einer Fotografin unerlässlich und gehören zur Routine der Verlagsarbeit. Leider zeigt die Erfahrung auf beiden Seiten\, dass es in der Zusammenarbeit immer wieder zu Missverständnissen und Konflikten kommt\, da der Blickwinkel und Arbeitszugang ein sehr unterschiedlicher ist. \nAuch die Bedürfnisse und Rechte der beiden Berufsgruppen können sich manchmal ergänzen\, manchmal aber auch widersprechen. Zumindest scheint dies auf den ersten Blick so zu sein. Wie eine Zusammenarbeit trotzdem gut funktionieren kann\, welche Vorraussetzungen für eine erfolgreiche Zusammenarbeit unerlässlich sind und wie die Bedürfnisse beider Partner gewahrt werden können\, ist Inhalt dieses Seminartages. \nThemen:\nGrundlagen des Urheberrechts \n\nZweck des Urheberrechts\nUrheberrechtsbezeichnung und Verwertungsrechte\nWerkschutz in Theorie und Praxis\n\nBedürfnisklärung der Vertragspartner \n\nBedürfnisse der FotografInnen\nBedürfnisse der Verlage\nGegensätze und Gemeinsamkeiten\nPositionierungsmöglichkeiten\n\nEckpfeiler erfolgreicher Zusammenarbeit  \n\nKlärungsbedarf vor Zusammenarbeit\nVertragliche Gestaltungsspielräume\nWenn etwas schief geht …\nCheckliste für die gelingende Partnerschaft\n\nZielgruppe:\nFotografen\, Grafiker\, Verlagsmitarbeiter \nIhr Karrierenutzen:\nFotografInnen lernen die Bedürfnisse eines Verlages kennen und können durch das erworbene Verständnis eine neue Zielgruppe erschließen bzw. eine bestehende besser servicieren und sich als ideale Partner positionieren.  VerlagsmitarbeiterInnen lernen die Bedürfnisse der FotografInnen besser kennen und können gezielter formulieren\, welche Dienstleistungen sie konkret benötigen.
URL:https://barbara-huber.at/termine/dream-team-fotografin-und-verlag-2/
LOCATION:Goldegg Training Medienakademie\, Mommsengasse 4/2\, Wien\, 1040\, Österreich
CATEGORIES:Seminar
END:VEVENT
END:VCALENDAR