BEGIN:VCALENDAR
VERSION:2.0
PRODID:-//Mag. Barbara Huber - ECPv6.15.20//NONSGML v1.0//EN
CALSCALE:GREGORIAN
METHOD:PUBLISH
X-WR-CALNAME:Mag. Barbara Huber
X-ORIGINAL-URL:https://barbara-huber.at
X-WR-CALDESC:Veranstaltungen für Mag. Barbara Huber
REFRESH-INTERVAL;VALUE=DURATION:PT1H
X-Robots-Tag:noindex
X-PUBLISHED-TTL:PT1H
BEGIN:VTIMEZONE
TZID:UTC
BEGIN:STANDARD
TZOFFSETFROM:+0000
TZOFFSETTO:+0000
TZNAME:UTC
DTSTART:20160101T000000
END:STANDARD
END:VTIMEZONE
BEGIN:VEVENT
DTSTART;TZID=UTC:20170222T180000
DTEND;TZID=UTC:20170222T200000
DTSTAMP:20260424T201307
CREATED:20161219T044505Z
LAST-MODIFIED:20161220T030653Z
UID:1211-1487786400-1487793600@barbara-huber.at
SUMMARY:Dos and Don'ts vor der Gründung
DESCRIPTION:Fokus: Business Plan\, Positionierung\, Kapitalbeschaffung \nAn diesem Expertenabend erfahren Sie alles Wissenswerte zum Thema Dos and Don’ts vor der Gründung. Zu den Themen Business Plan\, Positionierung\, Kapitalbeschaffung erklären die Vortragenden die Keypoints\, die für Ihr künftiges Unternehmen wichtig sind. \nAblauf: \n\nBusiness Plan (Zierhofer\, 15 min.)\nPositionierung/USP (Huber\, 25 min.)\nKapitalbeschaffung (Manninger\, 25 min.)\nDiskussion und freies Netzwerken (open end)\n\nErfahren Sie mehr darüber\, welche Punkte im Businessplan enthalten sein müssen; wie Sie für Ihre Kunden einzigartig werden; welche Schritte nötig sind\, um sich über Banken erfolgreich zu finanzieren; u.v.m \nMehr zu den Vortragenden finden Sie auf den entsprechenden Websites \nJoachim Zierhofer – RIZ Niederösterreichs Gründeragentur Ges.m.b.H.\n \nMag. Barbara Huber – Huber Unternehmensberatung \nDr. Martin Manninger – Wertsache.at Vermögensberatung GmbH \n 
URL:https://barbara-huber.at/termine/dos-and-donts-vor-der-gruendung/
LOCATION:CONVO Coworking GmbH\, Wiener Straße 13\, Mödling\, 2340\, Österreich
CATEGORIES:Vortrag
ORGANIZER;CN="Barbara Huber":MAILTO:kontakt@barbara-huber.at
END:VEVENT
END:VCALENDAR