BEGIN:VCALENDAR
VERSION:2.0
PRODID:-//Mag. Barbara Huber - ECPv6.15.20//NONSGML v1.0//EN
CALSCALE:GREGORIAN
METHOD:PUBLISH
X-WR-CALNAME:Mag. Barbara Huber
X-ORIGINAL-URL:https://barbara-huber.at
X-WR-CALDESC:Veranstaltungen für Mag. Barbara Huber
REFRESH-INTERVAL;VALUE=DURATION:PT1H
X-Robots-Tag:noindex
X-PUBLISHED-TTL:PT1H
BEGIN:VTIMEZONE
TZID:Europe/Helsinki
BEGIN:DAYLIGHT
TZOFFSETFROM:+0200
TZOFFSETTO:+0300
TZNAME:EEST
DTSTART:20200329T010000
END:DAYLIGHT
BEGIN:STANDARD
TZOFFSETFROM:+0300
TZOFFSETTO:+0200
TZNAME:EET
DTSTART:20201025T010000
END:STANDARD
BEGIN:DAYLIGHT
TZOFFSETFROM:+0200
TZOFFSETTO:+0300
TZNAME:EEST
DTSTART:20210328T010000
END:DAYLIGHT
BEGIN:STANDARD
TZOFFSETFROM:+0300
TZOFFSETTO:+0200
TZNAME:EET
DTSTART:20211031T010000
END:STANDARD
BEGIN:DAYLIGHT
TZOFFSETFROM:+0200
TZOFFSETTO:+0300
TZNAME:EEST
DTSTART:20220327T010000
END:DAYLIGHT
BEGIN:STANDARD
TZOFFSETFROM:+0300
TZOFFSETTO:+0200
TZNAME:EET
DTSTART:20221030T010000
END:STANDARD
END:VTIMEZONE
BEGIN:VEVENT
DTSTART;TZID=Europe/Helsinki:20210601T100000
DTEND;TZID=Europe/Helsinki:20210601T163000
DTSTAMP:20260425T002503
CREATED:20210311T160046Z
LAST-MODIFIED:20210311T160046Z
UID:2963-1622541600-1622565000@barbara-huber.at
SUMMARY:DIY: Preise richtig kalkulieren
DESCRIPTION:Als Gründerin und Gründer gerät man leicht in Versuchung\, seine eigenen Verkaufspreise am Markt zu orientieren. Der Fehler dabei: Marktpreise können – aber müssen nicht – die eigenen Ausgaben decken und zu Gewinnen im Unternehmen führen. Daher lohnt es sich\, hinter die Kulissen zu schauen und seine Preise auf Basis der eigenen Kosten zu kalkulieren. Was Sie dabei beachten sollten\, erfahren Sie in diesem Workshop.
URL:https://barbara-huber.at/termine/diy-preise-richtig-kalkulieren-2/
LOCATION:Technologiezentrum Seestadt\, Seestadtstraße 27\, Wien\, Wien\, 1220\, Österreich
CATEGORIES:Vortrag
END:VEVENT
END:VCALENDAR