BEGIN:VCALENDAR
VERSION:2.0
PRODID:-//Mag. Barbara Huber - ECPv6.15.20//NONSGML v1.0//EN
CALSCALE:GREGORIAN
METHOD:PUBLISH
X-WR-CALNAME:Mag. Barbara Huber
X-ORIGINAL-URL:https://barbara-huber.at
X-WR-CALDESC:Veranstaltungen für Mag. Barbara Huber
REFRESH-INTERVAL;VALUE=DURATION:PT1H
X-Robots-Tag:noindex
X-PUBLISHED-TTL:PT1H
BEGIN:VTIMEZONE
TZID:Europe/Helsinki
BEGIN:DAYLIGHT
TZOFFSETFROM:+0200
TZOFFSETTO:+0300
TZNAME:EEST
DTSTART:20190331T010000
END:DAYLIGHT
BEGIN:STANDARD
TZOFFSETFROM:+0300
TZOFFSETTO:+0200
TZNAME:EET
DTSTART:20191027T010000
END:STANDARD
BEGIN:DAYLIGHT
TZOFFSETFROM:+0200
TZOFFSETTO:+0300
TZNAME:EEST
DTSTART:20200329T010000
END:DAYLIGHT
BEGIN:STANDARD
TZOFFSETFROM:+0300
TZOFFSETTO:+0200
TZNAME:EET
DTSTART:20201025T010000
END:STANDARD
BEGIN:DAYLIGHT
TZOFFSETFROM:+0200
TZOFFSETTO:+0300
TZNAME:EEST
DTSTART:20210328T010000
END:DAYLIGHT
BEGIN:STANDARD
TZOFFSETFROM:+0300
TZOFFSETTO:+0200
TZNAME:EET
DTSTART:20211031T010000
END:STANDARD
END:VTIMEZONE
BEGIN:VEVENT
DTSTART;TZID=Europe/Helsinki:20200929T090000
DTEND;TZID=Europe/Helsinki:20200929T150000
DTSTAMP:20260424T064532
CREATED:20191120T163037Z
LAST-MODIFIED:20200623T121805Z
UID:2450-1601370000-1601391600@barbara-huber.at
SUMMARY:DIY: Einnahmen-Ausgaben-Rechnung kompakt (ONLINE)
DESCRIPTION:Auch bei der vereinfachten Gewinnermittlung der Einnahmen-Ausgaben-Rechnung gelten wichtige Regeln\, um Gewinn und Verlust der unternehmerischen Tätigkeit gesetzeskonform und korrekt zu ermitteln. In diesem Workshop lernen Sie anhand konkreter Beispiele ganz praxisnah die Grundlagen und Ausnahmen der Berechnung kennen.
URL:https://barbara-huber.at/termine/diy-einnahmen-ausgaben-rechnung-kompakt-7/
LOCATION:ONLINE
CATEGORIES:Vortrag
END:VEVENT
END:VCALENDAR