BEGIN:VCALENDAR
VERSION:2.0
PRODID:-//Mag. Barbara Huber - ECPv6.15.20//NONSGML v1.0//EN
CALSCALE:GREGORIAN
METHOD:PUBLISH
X-WR-CALNAME:Mag. Barbara Huber
X-ORIGINAL-URL:https://barbara-huber.at
X-WR-CALDESC:Veranstaltungen für Mag. Barbara Huber
REFRESH-INTERVAL;VALUE=DURATION:PT1H
X-Robots-Tag:noindex
X-PUBLISHED-TTL:PT1H
BEGIN:VTIMEZONE
TZID:Europe/Helsinki
BEGIN:DAYLIGHT
TZOFFSETFROM:+0200
TZOFFSETTO:+0300
TZNAME:EEST
DTSTART:20200329T010000
END:DAYLIGHT
BEGIN:STANDARD
TZOFFSETFROM:+0300
TZOFFSETTO:+0200
TZNAME:EET
DTSTART:20201025T010000
END:STANDARD
BEGIN:DAYLIGHT
TZOFFSETFROM:+0200
TZOFFSETTO:+0300
TZNAME:EEST
DTSTART:20210328T010000
END:DAYLIGHT
BEGIN:STANDARD
TZOFFSETFROM:+0300
TZOFFSETTO:+0200
TZNAME:EET
DTSTART:20211031T010000
END:STANDARD
BEGIN:DAYLIGHT
TZOFFSETFROM:+0200
TZOFFSETTO:+0300
TZNAME:EEST
DTSTART:20220327T010000
END:DAYLIGHT
BEGIN:STANDARD
TZOFFSETFROM:+0300
TZOFFSETTO:+0200
TZNAME:EET
DTSTART:20221030T010000
END:STANDARD
END:VTIMEZONE
BEGIN:VEVENT
DTSTART;TZID=Europe/Helsinki:20210216T100000
DTEND;TZID=Europe/Helsinki:20210216T110000
DTSTAMP:20260425T002857
CREATED:20210218T114334Z
LAST-MODIFIED:20210218T114444Z
UID:2945-1613469600-1613473200@barbara-huber.at
SUMMARY:Coronahilfen und Einreich-Dschungel (ONLINE)
DESCRIPTION:Der Wirtschaftsbund und Team Weinwurm laden ein: \nWelche Förderungen kann ich einreichen und wie sind sie zu versteuern? Es ist nicht einfach sich im Förderdschungel der Corona-Hilfen zurechtzufinden. Daher haben wir die Expertin Mag. Barbara Huber eingeladen.\n\nDie Steuer- und Unternehmensberaterin erzählt uns\, welche Förderungen für uns Fotograf/innen möglich sind\, welche Voraussetzungen erfüllt sein müssen und wie etwaige Auszahlungen steuerlich zu behandeln sind. Erhalten Sie einen Einblick in Härtefallfonds\, Fixkostenzuschuss I\, Fixkostenzuschuss 800.000\, Verlustersatz\, Ausfallsbonus und Investitionsprämie.
URL:https://barbara-huber.at/termine/coronahilfen-und-einreich-dschungel/
LOCATION:ONLINE
CATEGORIES:Vortrag
END:VEVENT
END:VCALENDAR