BEGIN:VCALENDAR
VERSION:2.0
PRODID:-//Mag. Barbara Huber - ECPv6.15.20//NONSGML v1.0//EN
CALSCALE:GREGORIAN
METHOD:PUBLISH
X-WR-CALNAME:Mag. Barbara Huber
X-ORIGINAL-URL:https://barbara-huber.at
X-WR-CALDESC:Veranstaltungen für Mag. Barbara Huber
REFRESH-INTERVAL;VALUE=DURATION:PT1H
X-Robots-Tag:noindex
X-PUBLISHED-TTL:PT1H
BEGIN:VTIMEZONE
TZID:Europe/Helsinki
BEGIN:DAYLIGHT
TZOFFSETFROM:+0200
TZOFFSETTO:+0300
TZNAME:EEST
DTSTART:20180325T010000
END:DAYLIGHT
BEGIN:STANDARD
TZOFFSETFROM:+0300
TZOFFSETTO:+0200
TZNAME:EET
DTSTART:20181028T010000
END:STANDARD
BEGIN:DAYLIGHT
TZOFFSETFROM:+0200
TZOFFSETTO:+0300
TZNAME:EEST
DTSTART:20190331T010000
END:DAYLIGHT
BEGIN:STANDARD
TZOFFSETFROM:+0300
TZOFFSETTO:+0200
TZNAME:EET
DTSTART:20191027T010000
END:STANDARD
BEGIN:DAYLIGHT
TZOFFSETFROM:+0200
TZOFFSETTO:+0300
TZNAME:EEST
DTSTART:20200329T010000
END:DAYLIGHT
BEGIN:STANDARD
TZOFFSETFROM:+0300
TZOFFSETTO:+0200
TZNAME:EET
DTSTART:20201025T010000
END:STANDARD
END:VTIMEZONE
BEGIN:VEVENT
DTSTART;TZID=Europe/Helsinki:20190626T093000
DTEND;TZID=Europe/Helsinki:20190626T133000
DTSTAMP:20260424T193739
CREATED:20181127T052724Z
LAST-MODIFIED:20181127T052724Z
UID:2116-1561541400-1561555800@barbara-huber.at
SUMMARY:Be an expert: Buchhalterische Pflichten laut UGB und BAO
DESCRIPTION:Das Unternehmensgesetzbuch (UGB) und die Bundesabgabenordnung (BAO) schreiben Unternehmerinnen und Unternehmern zahlreiche buchhalterische Pflichten vor. Von der Belegorganisation bis zur Aufbewahrungspflicht bleibt (fast) nichts ungeregelt. In diesem Workshop erfahren Sie alle wesentlichen Pflichten und erhalten Tipps und Tricks wie Sie diese leicht und effizient bewerkstelligen können.
URL:https://barbara-huber.at/termine/be-an-expert-buchhalterische-pflichten-laut-ugb-und-bao/
LOCATION:Technologiezentrum Seestadt\, Seestadtstraße 27\, Wien\, Wien\, 1220\, Österreich
END:VEVENT
END:VCALENDAR