BEGIN:VCALENDAR
VERSION:2.0
PRODID:-//Mag. Barbara Huber - ECPv6.15.20//NONSGML v1.0//EN
CALSCALE:GREGORIAN
METHOD:PUBLISH
X-WR-CALNAME:Mag. Barbara Huber
X-ORIGINAL-URL:https://barbara-huber.at
X-WR-CALDESC:Veranstaltungen für Mag. Barbara Huber
REFRESH-INTERVAL;VALUE=DURATION:PT1H
X-Robots-Tag:noindex
X-PUBLISHED-TTL:PT1H
BEGIN:VTIMEZONE
TZID:Europe/Helsinki
BEGIN:DAYLIGHT
TZOFFSETFROM:+0200
TZOFFSETTO:+0300
TZNAME:EEST
DTSTART:20250330T010000
END:DAYLIGHT
BEGIN:STANDARD
TZOFFSETFROM:+0300
TZOFFSETTO:+0200
TZNAME:EET
DTSTART:20251026T010000
END:STANDARD
BEGIN:DAYLIGHT
TZOFFSETFROM:+0200
TZOFFSETTO:+0300
TZNAME:EEST
DTSTART:20260329T010000
END:DAYLIGHT
BEGIN:STANDARD
TZOFFSETFROM:+0300
TZOFFSETTO:+0200
TZNAME:EET
DTSTART:20261025T010000
END:STANDARD
BEGIN:DAYLIGHT
TZOFFSETFROM:+0200
TZOFFSETTO:+0300
TZNAME:EEST
DTSTART:20270328T010000
END:DAYLIGHT
BEGIN:STANDARD
TZOFFSETFROM:+0300
TZOFFSETTO:+0200
TZNAME:EET
DTSTART:20271031T010000
END:STANDARD
END:VTIMEZONE
BEGIN:VEVENT
DTSTART;TZID=Europe/Helsinki:20260507T100000
DTEND;TZID=Europe/Helsinki:20260507T130000
DTSTAMP:20260424T064327
CREATED:20251230T120743Z
LAST-MODIFIED:20251230T120743Z
UID:4511-1778148000-1778158800@barbara-huber.at
SUMMARY:Facing the Giants: SVS und Finanzamt (ONLINE)
DESCRIPTION:Die größte Angst von Gründerinnen und Unternehmern ist leicht beschrieben: Voraus- und Nachzahlungen an Finanzamt und Sozialversicherungsanstalt. Wer jedoch das Rechtssystem und die dahinter liegenden Abwicklungsprozesse versteht\, muss sich vor diesen Behörden nicht fürchten. In diesem Workshop erfahren Sie Wissenswertes zum Thema Steuer- und Sozialversicherungsrecht. Anschließend sind Sie gerüstet für die Planung der notwendigen Zahlungen.
URL:https://barbara-huber.at/termine/facing-the-giants-svs-und-finanzamt-online-15/
LOCATION:ONLINE
END:VEVENT
BEGIN:VEVENT
DTSTART;TZID=Europe/Helsinki:20260609T100000
DTEND;TZID=Europe/Helsinki:20260609T163000
DTSTAMP:20260424T064327
CREATED:20251230T120912Z
LAST-MODIFIED:20251230T120912Z
UID:4513-1780999200-1781022600@barbara-huber.at
SUMMARY:Einnahmen-Ausgaben-Rechnung kompakt
DESCRIPTION:Auch bei der vereinfachten Gewinnermittlung der Einnahmen-Ausgaben-Rechnung gelten wichtige Regeln\, um Gewinn und Verlust der unternehmerischen Tätigkeit gesetzeskonform und korrekt zu ermitteln. In diesem Workshop lernen Sie anhand konkreter Beispiele ganz praxisnah die Grundlagen und Ausnahmen der Berechnung kennen.
URL:https://barbara-huber.at/termine/einnahmen-ausgaben-rechnung-kompakt-12/
LOCATION:Lumia\, Am grünen Prater 2 (Tribüne 2\, Raum: 360°)\, Wien\, Wien\, 1020\, Austria
END:VEVENT
BEGIN:VEVENT
DTSTART;TZID=Europe/Helsinki:20260617T100000
DTEND;TZID=Europe/Helsinki:20260617T130000
DTSTAMP:20260424T064327
CREATED:20251230T121031Z
LAST-MODIFIED:20251230T121031Z
UID:4515-1781690400-1781701200@barbara-huber.at
SUMMARY:Facing the Giants: SVS und Finanzamt (ONLINE)
DESCRIPTION:Die größte Angst von Gründerinnen und Unternehmern ist leicht beschrieben: Voraus- und Nachzahlungen an Finanzamt und Sozialversicherungsanstalt. Wer jedoch das Rechtssystem und die dahinter liegenden Abwicklungsprozesse versteht\, muss sich vor diesen Behörden nicht fürchten. In diesem Workshop erfahren Sie Wissenswertes zum Thema Steuer- und Sozialversicherungsrecht. Anschließend sind Sie gerüstet für die Planung der notwendigen Zahlungen.
URL:https://barbara-huber.at/termine/facing-the-giants-svs-und-finanzamt-online-16/
LOCATION:ONLINE
END:VEVENT
END:VCALENDAR